BEGIN:VCALENDAR
VERSION:2.0
PRODID:-//Stockholms Nämndemannaförening - ECPv6.15.19//NONSGML v1.0//EN
CALSCALE:GREGORIAN
METHOD:PUBLISH
X-WR-CALNAME:Stockholms Nämndemannaförening
X-ORIGINAL-URL:https://stockholm.nmrf.se
X-WR-CALDESC:Händelser för Stockholms Nämndemannaförening
REFRESH-INTERVAL;VALUE=DURATION:PT1H
X-Robots-Tag:noindex
X-PUBLISHED-TTL:PT1H
BEGIN:VTIMEZONE
TZID:Europe/Stockholm
BEGIN:DAYLIGHT
TZOFFSETFROM:+0100
TZOFFSETTO:+0200
TZNAME:CEST
DTSTART:20230326T010000
END:DAYLIGHT
BEGIN:STANDARD
TZOFFSETFROM:+0200
TZOFFSETTO:+0100
TZNAME:CET
DTSTART:20231029T010000
END:STANDARD
BEGIN:DAYLIGHT
TZOFFSETFROM:+0100
TZOFFSETTO:+0200
TZNAME:CEST
DTSTART:20240331T010000
END:DAYLIGHT
BEGIN:STANDARD
TZOFFSETFROM:+0200
TZOFFSETTO:+0100
TZNAME:CET
DTSTART:20241027T010000
END:STANDARD
BEGIN:DAYLIGHT
TZOFFSETFROM:+0100
TZOFFSETTO:+0200
TZNAME:CEST
DTSTART:20250330T010000
END:DAYLIGHT
BEGIN:STANDARD
TZOFFSETFROM:+0200
TZOFFSETTO:+0100
TZNAME:CET
DTSTART:20251026T010000
END:STANDARD
END:VTIMEZONE
BEGIN:VEVENT
DTSTART;TZID=Europe/Stockholm:20240529T163000
DTEND;TZID=Europe/Stockholm:20240529T163000
DTSTAMP:20260419T155925
CREATED:20240419T142013Z
LAST-MODIFIED:20240516T144026Z
UID:1681-1717000200-1717000200@stockholm.nmrf.se
SUMMARY:Mingel - maj -24
DESCRIPTION:Vi genomför två mingel under april och maj för att informera om vår verksamhet och tankar inför framtiden. Onsdagen 24/4 2024 samt onsdagen 29/5 2024 båda dagarna från klockan 16.30. Tilltugg kommer att finnas.
URL:https://stockholm.nmrf.se/event/mingel-maj-24/
ATTACH;FMTTYPE=image/jpeg:https://stockholm.nmrf.se/wp-content/uploads/sites/52/2024/04/sthlm_tingsratt_sv.jpg
END:VEVENT
BEGIN:VEVENT
DTSTART;TZID=Europe/Stockholm:20240424T163000
DTEND;TZID=Europe/Stockholm:20240424T183000
DTSTAMP:20260419T155925
CREATED:20240419T141210Z
LAST-MODIFIED:20240419T143429Z
UID:1678-1713976200-1713983400@stockholm.nmrf.se
SUMMARY:Mingel - april -24
DESCRIPTION:Vi genomför två mingel under april och maj för att informera om vår verksamhet och tankar inför framtiden. Onsdagen 24/4 2024 samt onsdagen 22/5 2024 båda dagarna från klockan 16.30. Tilltugg kommer att finnas. \n 
URL:https://stockholm.nmrf.se/event/mingel-april-maj-24/
ATTACH;FMTTYPE=image/jpeg:https://stockholm.nmrf.se/wp-content/uploads/sites/52/2024/04/sthlm_tingsratt_sv.jpg
END:VEVENT
END:VCALENDAR